BEGIN:VCALENDAR
VERSION:2.0
PRODID:City of Ocala Calendar Creator
METHOD:PUBLISH
BEGIN:VEVENT
DTSTAMP:20210408T090723
DTSTART:20210521T120000
DTEND:20210521T235900
SUMMARY:Attorney-Client Session
DESCRIPTION:
X-ALT-DESC;FMTTYPE=text/html:
LOCATION:
CLASS:PUBLIC
END:VEVENT
END:VCALENDAR
