BEGIN:VCALENDAR
VERSION:2.0
PRODID:City of Ocala Calendar Creator
METHOD:PUBLISH
BEGIN:VEVENT
DTSTAMP:20210408T091135
DTSTART:20210813T120000
DTEND:20210813T235900
SUMMARY:Attorney-Client Session
DESCRIPTION:
X-ALT-DESC;FMTTYPE=text/html:
LOCATION:
CLASS:PUBLIC
END:VEVENT
END:VCALENDAR
