BEGIN:VCALENDAR
VERSION:2.0
PRODID:City of Ocala Calendar Creator
METHOD:PUBLISH
BEGIN:VEVENT
DTSTAMP:20210413T083600
DTSTART:20210420T090000
DTEND:20210420T235900
SUMMARY:Negotiation Session: International Brotherhood of Electrical Workers (IBEW) Local 1205
DESCRIPTION:
X-ALT-DESC;FMTTYPE=text/html:
LOCATION:
CLASS:PUBLIC
END:VEVENT
END:VCALENDAR
