BEGIN:VCALENDAR
VERSION:2.0
PRODID:City of Ocala Calendar Creator
METHOD:PUBLISH
BEGIN:VEVENT
DTSTAMP:20210429T101954
DTSTART:20210505T090000
DTEND:20210505T235900
SUMMARY:Contract Negotiation Re: Development Opportunity 2018-001
DESCRIPTION:<p >Development Opportunity# 2018-001: Catalytic Opportunity Sites in Midtown Ocala<br>Site I - Microbrewery Residential/Retail Component</p><p>Contract Negotiations with Rolando Sosa Development Team</p><p>Wednesday, May 5, 2021<br>9:00 A.M.<br>Location: Zoom (online)</p><p><em>This notice is for information only. Negotiations are exempt from public meetings per Florida Statute 286.0113. For information concerning this meeting, please contact Corrin Fitsemons, Deputy Director of Contracting &amp; Procurement at (352) 629-8364.</em></p>
X-ALT-DESC;FMTTYPE=text/html:<p >Development Opportunity# 2018-001: Catalytic Opportunity Sites in Midtown Ocala<br>Site I - Microbrewery Residential/Retail Component</p><p>Contract Negotiations with Rolando Sosa Development Team</p><p>Wednesday, May 5, 2021<br>9:00 A.M.<br>Location: Zoom (online)</p><p><em>This notice is for information only. Negotiations are exempt from public meetings per Florida Statute 286.0113. For information concerning this meeting, please contact Corrin Fitsemons, Deputy Director of Contracting &amp; Procurement at (352) 629-8364.</em></p>
LOCATION:
CLASS:PUBLIC
END:VEVENT
END:VCALENDAR
