BEGIN:VCALENDAR
VERSION:2.0
PRODID:City of Ocala Calendar Creator
METHOD:PUBLISH
BEGIN:VEVENT
DTSTAMP:20210514T085748
DTSTART:20210517T160000
DTEND:20210517T235900
SUMMARY:West Ocala Community Redevelopment Area (CRA) Grant Review Committee Site Visit
DESCRIPTION:<p>West Ocala CRA<br>Grant Review Committee<br>Monday, May 17, 2021<br>4:00 pm</p><p>Site addresses to be visited: <strong>1301 NW 10th Street </strong>with a possible follow-up meeting at the Citizen Service Center, 2nd floor, 201 SE 3rd Street, Ocala.</p><p>If reasonable accommodations are needed for you to participate in this meeting, please call 629-8404 forty-eight (48) hours in advance so that arrangements can be made.</p>
X-ALT-DESC;FMTTYPE=text/html:<p>West Ocala CRA<br>Grant Review Committee<br>Monday, May 17, 2021<br>4:00 pm</p><p>Site addresses to be visited: <strong>1301 NW 10th Street </strong>with a possible follow-up meeting at the Citizen Service Center, 2nd floor, 201 SE 3rd Street, Ocala.</p><p>If reasonable accommodations are needed for you to participate in this meeting, please call 629-8404 forty-eight (48) hours in advance so that arrangements can be made.</p>
LOCATION:
CLASS:PUBLIC
END:VEVENT
END:VCALENDAR
