BEGIN:VCALENDAR
VERSION:2.0
PRODID:City of Ocala Calendar Creator
METHOD:PUBLISH
BEGIN:VEVENT
DTSTAMP:20210615T133901
DTSTART:20210617T090000
DTEND:20210617T235900
SUMMARY:Selection Committee Meeting - RFP# SUN/210102 Transit Management Services- SUNTRAN
DESCRIPTION:
X-ALT-DESC;FMTTYPE=text/html:
LOCATION:
CLASS:PUBLIC
END:VEVENT
END:VCALENDAR
