BEGIN:VCALENDAR
VERSION:2.0
PRODID:City of Ocala Calendar Creator
METHOD:PUBLISH
BEGIN:VEVENT
DTSTAMP:20250915T102357
DTSTART:20250918T023000
DTEND:20250918T235900
SUMMARY:CANCELLED - Brownfields Advisory Committee Meeting Growth Management Training Room
DESCRIPTION:
X-ALT-DESC;FMTTYPE=text/html:
LOCATION:
CLASS:PUBLIC
END:VEVENT
END:VCALENDAR
