BEGIN:VCALENDAR
VERSION:2.0
PRODID:City of Ocala Calendar Creator
METHOD:PUBLISH
BEGIN:VEVENT
DTSTAMP:20250916T112151
DTSTART:20250930T160000
DTEND:20250930T235900
SUMMARY:Public Open House - Navigating the Future 2050 Long Range Transportation Plan
DESCRIPTION:
X-ALT-DESC;FMTTYPE=text/html:
LOCATION:
CLASS:PUBLIC
END:VEVENT
END:VCALENDAR
