BEGIN:VCALENDAR
VERSION:2.0
PRODID:City of Ocala Calendar Creator
METHOD:PUBLISH
BEGIN:VEVENT
DTSTAMP:20251215T150014
DTSTART:20251218T113000
DTEND:20251218T235900
SUMMARY:RFQ# GRM/260189: Demolition and Removal of Structure at 1224 SW 2nd Street
DESCRIPTION:
X-ALT-DESC;FMTTYPE=text/html:
LOCATION:
CLASS:PUBLIC
END:VEVENT
END:VCALENDAR
