BEGIN:VCALENDAR
VERSION:2.0
PRODID:City of Ocala Calendar Creator
METHOD:PUBLISH
BEGIN:VEVENT
DTSTAMP:20210803T153638
DTSTART:20210810T140000
DTEND:20210810T235900
SUMMARY:Contract Negotiations with Rolando Sosa Development Team
DESCRIPTION:This notice is for information only. Negotiations are exempt from public meetings per Florida Statute 286.0113.
X-ALT-DESC;FMTTYPE=text/html:This notice is for information only. Negotiations are exempt from public meetings per Florida Statute 286.0113.
LOCATION:
CLASS:PUBLIC
END:VEVENT
END:VCALENDAR
