BEGIN:VCALENDAR
VERSION:2.0
PRODID:City of Ocala Calendar Creator
METHOD:PUBLISH
BEGIN:VEVENT
DTSTAMP:20260126T165518
DTSTART:20260127T100000
DTEND:20260127T235900
SUMMARY:CANCELLED Downtown Ocala Community Redevelopment Area (CRA) Advisory Committee
DESCRIPTION:
X-ALT-DESC;FMTTYPE=text/html:
LOCATION:
CLASS:PUBLIC
END:VEVENT
END:VCALENDAR
