BEGIN:VCALENDAR
VERSION:2.0
PRODID:City of Ocala Calendar Creator
METHOD:PUBLISH
BEGIN:VEVENT
DTSTAMP:20260120T122136
DTSTART:20260127T150000
DTEND:20260127T235900
SUMMARY:TPO - Ocala Marion Transportation Planning Organization Meeting - location will be the Marion County Board of County Commissioners Auditorium
DESCRIPTION:
X-ALT-DESC;FMTTYPE=text/html:
LOCATION:
CLASS:PUBLIC
END:VEVENT
END:VCALENDAR
