BEGIN:VCALENDAR
VERSION:2.0
PRODID:City of Ocala Calendar Creator
METHOD:PUBLISH
BEGIN:VEVENT
DTSTAMP:20260120T132653
DTSTART:20260129T083000
DTEND:20260129T235900
SUMMARY:North Magnolia Community Redevelopment Area (CRA) Advisory Committee
DESCRIPTION:
X-ALT-DESC;FMTTYPE=text/html:
LOCATION:
CLASS:PUBLIC
END:VEVENT
END:VCALENDAR
