BEGIN:VCALENDAR
VERSION:2.0
PRODID:City of Ocala Calendar Creator
METHOD:PUBLISH
BEGIN:VEVENT
DTSTAMP:20260120T133527
DTSTART:20260128T150000
DTEND:20260128T235900
SUMMARY:West Ocala Community Redevelopment Area CRA Advisory Committee
DESCRIPTION:
X-ALT-DESC;FMTTYPE=text/html:
LOCATION:
CLASS:PUBLIC
END:VEVENT
END:VCALENDAR
