BEGIN:VCALENDAR
VERSION:2.0
PRODID:City of Ocala Calendar Creator
METHOD:PUBLISH
BEGIN:VEVENT
DTSTAMP:20260305T111339
DTSTART:20260312T100000
DTEND:20260312T235900
SUMMARY:Ocala Marion County Transportation Planning Organization (TPO) Transportation Disadvantaged Local Coordinating Board
DESCRIPTION:
X-ALT-DESC;FMTTYPE=text/html:
LOCATION:
CLASS:PUBLIC
END:VEVENT
END:VCALENDAR
