BEGIN:VCALENDAR
VERSION:2.0
PRODID:City of Ocala Calendar Creator
METHOD:PUBLISH
BEGIN:VEVENT
DTSTAMP:20210811T121422
DTSTART:20210816T110000
DTEND:20210816T235900
SUMMARY:FMPA Board Officers Telephonic Meeting to Solicit Input from Board of Directors for General Manager and General Counsel Evaluations
DESCRIPTION:
X-ALT-DESC;FMTTYPE=text/html:
LOCATION:
CLASS:PUBLIC
END:VEVENT
END:VCALENDAR
