BEGIN:VCALENDAR
VERSION:2.0
PRODID:City of Ocala Calendar Creator
METHOD:PUBLISH
BEGIN:VEVENT
DTSTAMP:20211124T072550
DTSTART:20211201T153000
DTEND:20211201T235900
SUMMARY:Affordable Housing Advisory Committee Meeting
DESCRIPTION:
X-ALT-DESC;FMTTYPE=text/html:
LOCATION:
CLASS:PUBLIC
END:VEVENT
END:VCALENDAR
